BEGIN:VCALENDAR
VERSION:2.0
PRODID:-//hacksw/handcal//NONSGML v1.0//EN
CALSCALE:GREGORIAN
BEGIN:VEVENT
ORGANIZER;CN=Tower Semiconductor:MAILTO:no-reply@mail.gcs-web.com
DTEND:
UID:4a7f4e1b-c80d-4e20-adda-23483ac57395
DTSTAMP:1776872521
LOCATION:https://edge.media-server.com/mmc/p/iv4y7343/
DESCRIPTION:Event Details https://ir.towersemi.com/events/event-details/first-quarter-2026-financial-results-and-conference-call\n\nWebcast: https://edge.media-server.com/mmc/p/iv4y7343/
URL;VALUE=URI:https://edge.media-server.com/mmc/p/iv4y7343/
SUMMARY:Tower Semiconductor - First Quarter 2026 Financial Results and Conference Call
DTSTART:20260513T140000Z
END:VEVENT
END:VCALENDAR